BEGIN:VCALENDAR
VERSION:2.0
PRODID:-//ChamberMaster//Event Calendar 2.0//EN
METHOD:PUBLISH
X-PUBLISHED-TTL:P3D
REFRESH-INTERVAL:P3D
CALSCALE:GREGORIAN
BEGIN:VEVENT
DTSTART:20130313T110000Z
DTEND:20130313T150000Z
X-MICROSOFT-CDO-ALLDAYEVENT:FALSE
SUMMARY:NDAB Safety Training - Trenching & Excavating
DESCRIPTION:In conjunction with North Dakota Workforce Safety & Insurance and local HBAs\, the North Dakota Association of Builders presents FREE safety courses to members. Cost for non-members is $35 per 4-hour course.\n  \n  This course will provide the participants with the "do's and don'ts" of soil classifications and the proper protective systems such as sloping\, shoring\, benching\, and shielding\, that are used to protect employees while working in and around trenches.\n  \n  For more information or to register\, visit www.ndbuild.com or call 222-2401.
X-ALT-DESC;FMTTYPE=text/html:<p>In conjunction with North Dakota Workforce Safety &amp\; Insurance and local HBAs\, the North Dakota Association of Builders presents FREE safety courses to members. Cost for non-members is $35 per 4-hour course.<br />  <br />  This course will provide the participants with the &quot\;do&#39\;s and don&#39\;ts&quot\; of soil classifications and the proper protective systems such as sloping\, shoring\, benching\, and shielding\, that are used to protect employees while working in and around trenches.<br />  <br />  For more information or to register\, visit <a href="http://www.ndbuild.com">www.ndbuild.com</a> or call 222-2401.</p>  
LOCATION:North Dakota Safety Council Office\, 1640 Burnt Boat Drive\, Bismarck
UID:e.9633.41534
SEQUENCE:3
DTSTAMP:20260420T102309Z
URL:https://business.bmhba.com/events/details/ndab-safety-training-trenching-excavating-03-13-2013-41534
END:VEVENT

END:VCALENDAR
