BEGIN:VCALENDAR
VERSION:2.0
PRODID:-//ChamberMaster//Event Calendar 2.0//EN
METHOD:PUBLISH
X-PUBLISHED-TTL:P3D
REFRESH-INTERVAL:P3D
CALSCALE:GREGORIAN
BEGIN:VEVENT
DTSTART:20260514T220000Z
DTEND:20260517T220000Z
X-MICROSOFT-CDO-ALLDAYEVENT:FALSE
SUMMARY:2026 34th Annual Spring Parade of Homes
DESCRIPTION:The Bismarck-Mandan Home Builders Association is excited to present the 34th Annual Spring Parade of Homes.\n\n\n\nThe 2026 Spring Parade will be held Thursday\, May 14 - Sunday\, May 17.
X-ALT-DESC;FMTTYPE=text/html:<span style="font-family: arial\; font-size: 22px\;">The&nbsp\;</span><em style="font-family: arial\; font-size: 22px\;"><strong>Bismarck-Mandan Home Builders Association</strong></em><span style="font-family: arial\; font-size: 22px\;">&nbsp\;is excited to present the&nbsp\;</span><span style="font-family:tahoma\;"><strong><strong style="font-family: arial\; font-size: 22px\;">34th Annual&nbsp\;Spring Parade of Homes.</strong></strong></span><br style="font-family: arial\; font-size: 22px\;" />\n<br style="font-family: arial\; font-size: 22px\;" />\n<span style="font-family: arial\; font-size: 22px\; color: rgb(64\, 64\, 64)\;">The 2026 Spring Parade</span><span style="font-family: arial\; font-size: 22px\; color: rgb(64\, 64\, 64)\;">&nbsp\;will be held&nbsp\;<em><strong>Thursday\, May 14</strong></em></span><span style="font-family: arial\; font-size: 22px\; color: rgb(64\, 64\, 64)\;">&nbsp\;<strong>-&nbsp\;</strong><em><strong>Sunday\, May 17</strong></em></span><span style="font-family: arial\; font-size: 22px\; color: rgb(64\, 64\, 64)\;">.&nbsp\;</span><br style="font-family: arial\; font-size: 22px\;" />\n<br style="font-family: arial\; font-size: 22px\;" />\n&nbsp\;
LOCATION:Homes are featured throughout Bismarck\, Mandan and Lincoln.
UID:e.9633.79986
SEQUENCE:3
DTSTAMP:20260420T055601Z
URL:https://business.bmhba.com/events/details/2026-34th-annual-spring-parade-of-homes-79986
END:VEVENT

END:VCALENDAR
