BEGIN:VCALENDAR
VERSION:2.0
PRODID:-//ChamberMaster//Event Calendar 2.0//EN
METHOD:PUBLISH
X-PUBLISHED-TTL:P3D
REFRESH-INTERVAL:P3D
CALSCALE:GREGORIAN
BEGIN:VEVENT
DTSTART:20130322T110000Z
DTEND:20130322T200000Z
X-MICROSOFT-CDO-ALLDAYEVENT:FALSE
SUMMARY:2013 Parade of Homes Mapping Committee - Map Pick-Up
DESCRIPTION:The Mapping Sub-Committee needs to pick up their Parade of Homes maps at the BMHBA between 8 a.m. and 5 p.m. on March 22. Proofed maps are due back Monday\, March 25.
X-ALT-DESC;FMTTYPE=text/html:<p>The Mapping Sub-Committee needs to pick up their Parade of Homes maps at the BMHBA between 8 a.m. and 5 p.m. on March 22. Proofed maps are due back Monday\, March 25.</p>\n
LOCATION:BMHBA Office\, 2600 Gateway Ave\, Bismarck
UID:e.9633.41519
SEQUENCE:3
DTSTAMP:20260420T102217Z
URL:https://business.bmhba.com/events/details/2013-parade-of-homes-mapping-committee-map-pick-up-41519
END:VEVENT

END:VCALENDAR
