BEGIN:VCALENDAR
VERSION:2.0
PRODID:-//ChamberMaster//Event Calendar 2.0//EN
METHOD:PUBLISH
X-PUBLISHED-TTL:P3D
REFRESH-INTERVAL:P3D
CALSCALE:GREGORIAN
BEGIN:VEVENT
DTSTART:20130307T210000Z
DTEND:20130307T220000Z
X-MICROSOFT-CDO-ALLDAYEVENT:FALSE
SUMMARY:2013 (March) Events Committee Meeting
DESCRIPTION:
X-ALT-DESC;FMTTYPE=text/html:
LOCATION:BMHBA Office
UID:e.9633.41533
SEQUENCE:3
DTSTAMP:20260420T102019Z
URL:https://business.bmhba.com/events/details/2013-march-events-committee-meeting-41533
END:VEVENT

END:VCALENDAR
