BEGIN:VCALENDAR
VERSION:2.0
PRODID:-//ChamberMaster//Event Calendar 2.0//EN
METHOD:PUBLISH
X-PUBLISHED-TTL:P3D
REFRESH-INTERVAL:P3D
CALSCALE:GREGORIAN
BEGIN:VEVENT
DTSTART:20130228T170000Z
DTEND:20130228T180000Z
X-MICROSOFT-CDO-ALLDAYEVENT:FALSE
SUMMARY:2013 (February) Parade of Homes Committee Meeting
DESCRIPTION:All current and potential Parade of Homes committee members are invited to join us for a committee meeting at noon at the BMHBA office. Lunch will be included.\n\n\n\nThe office is located at 2600 Gateway Ave.\, #1\, Bismarck. Turn west at Perkins off Hwy 83. The building is on the left side of the street. It's a tan building with HBA on the top. If you have any questions\, give us a call at 222-2400.
X-ALT-DESC;FMTTYPE=text/html:<p>All current and potential Parade of Homes committee members are invited to join us for a committee meeting at noon at the BMHBA office. Lunch will be included.<br />\n<br />\nThe office is located at 2600 Gateway Ave.\, #1\, Bismarck. Turn west at Perkins off Hwy 83. The building is on the left side of the street. It&#39\;s a tan building with HBA on the top. If you have any questions\, give us a call at 222-2400.</p>\n
LOCATION:BMHBA Office
UID:e.9633.41521
SEQUENCE:3
DTSTAMP:20260420T203213Z
URL:https://business.bmhba.com/events/details/2013-february-parade-of-homes-committee-meeting-41521
END:VEVENT

END:VCALENDAR
